BEGIN:VCALENDAR
VERSION:2.0
PRODID:-//hacksw/handcal//NONSGML v1.0//EN
CALSCALE:GREGORIAN
BEGIN:VTIMEZONE
TZID:America/New_York
BEGIN:DAYLIGHT
TZOFFSETFROM:-0600
TZNAME:MDT
TZOFFSETTO:-0600
END:DAYLIGHT
END:VTIMEZONE
DTSTAMP:20260421T045444Z
UID:69e73b54d1350
BEGIN:VEVENT
LOCATION:   Sea Girt Library,   the Plaza, Sea Girt , NJ US 08750
DESCRIPTION:<p>&nbsp;</p>
DTSTART;TZID=America/New_York:20260306T103000
DTEND;TZID=America/New_York:20260306T113000
SUMMARY:In Stitches
URL;VALUE=URI:/stitches-18
END:VEVENT
END:VCALENDAR